BEGIN:VCALENDAR
VERSION:2.0
PRODID:-//The Almaden Senior Association - ECPv6.15.20//NONSGML v1.0//EN
CALSCALE:GREGORIAN
METHOD:PUBLISH
X-WR-CALNAME:The Almaden Senior Association
X-ORIGINAL-URL:https://almadenseniors.org
X-WR-CALDESC:Events for The Almaden Senior Association
REFRESH-INTERVAL;VALUE=DURATION:PT1H
X-Robots-Tag:noindex
X-PUBLISHED-TTL:PT1H
BEGIN:VTIMEZONE
TZID:America/Los_Angeles
BEGIN:DAYLIGHT
TZOFFSETFROM:-0800
TZOFFSETTO:-0700
TZNAME:PDT
DTSTART:20250309T100000
END:DAYLIGHT
BEGIN:STANDARD
TZOFFSETFROM:-0700
TZOFFSETTO:-0800
TZNAME:PST
DTSTART:20251102T090000
END:STANDARD
BEGIN:DAYLIGHT
TZOFFSETFROM:-0800
TZOFFSETTO:-0700
TZNAME:PDT
DTSTART:20260308T100000
END:DAYLIGHT
BEGIN:STANDARD
TZOFFSETFROM:-0700
TZOFFSETTO:-0800
TZNAME:PST
DTSTART:20261101T090000
END:STANDARD
BEGIN:DAYLIGHT
TZOFFSETFROM:-0800
TZOFFSETTO:-0700
TZNAME:PDT
DTSTART:20270314T100000
END:DAYLIGHT
BEGIN:STANDARD
TZOFFSETFROM:-0700
TZOFFSETTO:-0800
TZNAME:PST
DTSTART:20271107T090000
END:STANDARD
END:VTIMEZONE
BEGIN:VEVENT
DTSTART;TZID=America/Los_Angeles:20260723T080000
DTEND;TZID=America/Los_Angeles:20260723T173000
DTSTAMP:20260424T054751
CREATED:20260424T023256Z
LAST-MODIFIED:20260424T024012Z
UID:10000059-1784793600-1784827800@almadenseniors.org
SUMMARY:USS Potomac Cruise with Lunch
DESCRIPTION:COME WITH US FOR A BAY CRUISE ON THE\nUSS POTOMAC\nThursday\, July 23\, 2026\nJoin us for a wonderful day of history\, scenery and fun on the USS Potomac\, President Franklin D. Roosevelt’s historic yacht\, sailing out of Jack London Square in Oakland.  While taking our 2-hour cruise around the Bay\, we will see picturesque views of the San Francisco skyline and waterfront. We’ll cruise by lighthouses\, islands and under bridges while we hear the history of surrounding landmarks and the ship.After the cruise\, we will take our bus to the Oakland Grill Restaurant for a relaxing lunch before heading back to Almaden. \nDepart ACC at 8am and return at approximately 5:30pm\nPrice: $125 per person (cash or check)\nIncludes bus transportation\, cruise and lunch. \nSign-ups begin Monday\, April 27th\, 8am-10am then every M/W/F\nin the lobby of the Almaden Community Center\nFor more info call Jeanne at 408-425-5723
URL:https://almadenseniors.org/event/6987/
LOCATION:Jack London Square\, 472 Water St\, Oakland\, CA\, 94607\, United States
CATEGORIES:Shown on Activities Page
ATTACH;FMTTYPE=image/jpeg:https://almadenseniors.org/wp-content/uploads/2026/04/US-Potomac-Flyer-V2-scaled.jpg
ORGANIZER;CN="Jeanne Sanders":MAILTO:jsanders1786@yahoo.com
END:VEVENT
END:VCALENDAR